BEGIN:VCALENDAR
VERSION:2.0
PRODID:-//eventon.com NONSGML v1.0//EN
BEGIN:VEVENT
UID:69e72664b8dac
DTSTAMP:20260421T022524
DTSTART:20240517T050000Z
DTEND:20240517T105000Z
TZID:Pacific/Midway
LOCATION:
SUMMARY:May 16\,  2024 Engineering Committee Meeting
DESCRIPTION: Meeting Materials can be found here.
URL:https://dpwc.org/events/may-16-2024-engineering-committee-meeting/
END:VEVENT
END:VCALENDAR