BEGIN:VCALENDAR
VERSION:2.0
PRODID:-//eventon.com NONSGML v1.0//EN
BEGIN:VEVENT
UID:69e88d15a9d3d
DTSTAMP:20260422T035549
DTSTART:20231222T050000Z
DTEND:20231222T105000Z
TZID:Pacific/Midway
LOCATION:
SUMMARY:December 21\,  2023 Engineering Committee Meeting
DESCRIPTION: Meeting Cancellation
URL:https://dpwc.org/events/december-21-2023-engineering-committee-meeting/
END:VEVENT
END:VCALENDAR