BEGIN:VCALENDAR
VERSION:2.0
PRODID:-//eventon.com NONSGML v1.0//EN
BEGIN:VEVENT
UID:69e8a64c8077d
DTSTAMP:20260422T054324
DTSTART:20230420T224500Z
DTEND:20230421T045000Z
TZID:America/Chicago
LOCATION:
SUMMARY:April 20\,  2023 Administration Committee Meeting
DESCRIPTION: Administration Committee meeting materials can be found here. Notice regarding Committee time change can be found here.
URL:https://dpwc.org/events/april-20-2023-administration-committee-meeting/
END:VEVENT
END:VCALENDAR