BEGIN:VCALENDAR
VERSION:2.0
PRODID:-//eventon.com NONSGML v1.0//EN
BEGIN:VEVENT
UID:69e88d1e56f2a
DTSTAMP:20260422T035558
DTSTART:20230316T231500Z
DTEND:20230317T045000Z
TZID:America/Chicago
LOCATION:
SUMMARY:March 16\,  2023 Administration Committee Meeting
DESCRIPTION: Administration Committee meeting materials can be found here. &nbsp;
URL:https://dpwc.org/events/march-16-2023-administration-committee-meeting/
END:VEVENT
END:VCALENDAR