BEGIN:VCALENDAR
VERSION:2.0
PRODID:-//eventon.com NONSGML v1.0//EN
BEGIN:VEVENT
UID:69ea5b4874db7
DTSTAMP:20260423T124752
DTSTART:20230216T234500Z
DTEND:20230217T055000Z
TZID:America/Chicago
LOCATION:
SUMMARY:February 16\,  2023 Engineering Committee Meeting
DESCRIPTION: Engineering committee meeting materials can be found here. Notice regarding the Engineering Committee meeting time change can be found here.
URL:https://dpwc.org/events/february-16-2023-engineering-committee-meeting/
END:VEVENT
END:VCALENDAR